BEGIN:VCALENDAR
VERSION:2.0
PRODID:-//Public History Initiative - ECPv6.15.20//NONSGML v1.0//EN
CALSCALE:GREGORIAN
METHOD:PUBLISH
X-ORIGINAL-URL:https://phi.history.ucla.edu
X-WR-CALDESC:Events for Public History Initiative
REFRESH-INTERVAL;VALUE=DURATION:PT1H
X-Robots-Tag:noindex
X-PUBLISHED-TTL:PT1H
BEGIN:VTIMEZONE
TZID:America/Los_Angeles
BEGIN:DAYLIGHT
TZOFFSETFROM:-0800
TZOFFSETTO:-0700
TZNAME:PDT
DTSTART:20140309T100000
END:DAYLIGHT
BEGIN:STANDARD
TZOFFSETFROM:-0700
TZOFFSETTO:-0800
TZNAME:PST
DTSTART:20141102T090000
END:STANDARD
BEGIN:DAYLIGHT
TZOFFSETFROM:-0800
TZOFFSETTO:-0700
TZNAME:PDT
DTSTART:20150308T100000
END:DAYLIGHT
BEGIN:STANDARD
TZOFFSETFROM:-0700
TZOFFSETTO:-0800
TZNAME:PST
DTSTART:20151101T090000
END:STANDARD
BEGIN:DAYLIGHT
TZOFFSETFROM:-0800
TZOFFSETTO:-0700
TZNAME:PDT
DTSTART:20160313T100000
END:DAYLIGHT
BEGIN:STANDARD
TZOFFSETFROM:-0700
TZOFFSETTO:-0800
TZNAME:PST
DTSTART:20161106T090000
END:STANDARD
END:VTIMEZONE
BEGIN:VEVENT
DTSTART;TZID=America/Los_Angeles:20150605T080000
DTEND;TZID=America/Los_Angeles:20150605T170000
DTSTAMP:20260421T052213
CREATED:20150603T002845Z
LAST-MODIFIED:20150603T002900Z
UID:1488-1433491200-1433523600@phi.history.ucla.edu
SUMMARY:Gary B. Nash to Speak at Graduation for the School of History and Dramatic Arts
DESCRIPTION:On June 5\, 2015\, Gary B. Nash\, former Director of the National Center for History in the Schools at UCLA (NCHS)\, will be the guest speaker for the School of History and Dramatic Arts (SoHDA)\, one of four high schools on the Sonia Sotomayor Learning Complex in the northeast Los Angeles Cypress Park neighborhood.  The Class of 2015 will be the first to spend all four years at the campus. Each student will receive a personally autographed copy of Nash’s Forbidden Love: The Hidden History of Mixed-Race America published by NCHS. \nDuring 2010-11\, NCHS worked with teachers from the American Studies Academy at Franklin High School to apply through LAUSD’s Public School Choice (PSC) initiative for one of the five schools that would co-exist on the new campus. The school opened its doors in the fall of 2011 and set out to blend rigorous academics with a program that not only engages students with theater but teaches stage tech skills as well. NCHS and the Public History Initiative (PHI) at UCLA have sought to support the academic ‘half’ of this unique environment with history classroom assistants and HistoryCorps interns. In the second year of operation\, Brian Kovalesky\, the Gary B. Nash Public History Fellow for the History Department\, organized and started a schoolwide History Day. Under the current Director\, Toby Higbie\, and Program Coordinator Cheryl Wilkinson\, PHI has continued to support History Day projects with classroom assistance as well as by providing judges on the day of presentation.
URL:https://phi.history.ucla.edu/event/gary-b-nash-to-speak-at-graduation-for-the-school-of-history-and-dramatic-arts/
END:VEVENT
BEGIN:VEVENT
DTSTART;TZID=America/Los_Angeles:20150512T080000
DTEND;TZID=America/Los_Angeles:20150512T170000
DTSTAMP:20260421T052213
CREATED:20150513T005958Z
LAST-MODIFIED:20150513T005958Z
UID:1463-1431417600-1431450000@phi.history.ucla.edu
SUMMARY:2015 OAH Regional Workshop: July 17-19
DESCRIPTION:The Organization of American Historians is pleased to offer history educators a meaningful opportunity to learn more about diverse people\, places\, and historical themes of the American West. \nJoin us for a 3-day workshop\, held on the campus of Glendale Community College (10 miles north of downtown Los Angeles). Some questions that will be considered are: \n\nWhat are the major trends in contemporary research and historiography of the American West\, particularly as they relate to the theme of diversity?\nWhat strategies can be used to engage students and the general public in the history of the American West?\nHow might instructors build and enhance their teaching of American History survey courses to include the history of the American West?\n\nOffered are: \n\nA featured plenary session\nTours to nearby historical sites\nA variety of 90-minute concurrent sessions\n\nSome sessions will focus on research and historiographical resources\, while other sessions will have pedagogic emphasis. \nHotel Information\nReserve your hotel room at the Hilton Glendale by July 2\, 2015 at the space OAH room rate of $139. Reserve online or call 818-956-5466 with the code “OAH” \nRegistration\nRegistration is limited to 100 people. Register today to secure your spot!
URL:https://phi.history.ucla.edu/event/2015-oah-regional-workshop-july-17-19/
LOCATION:Glendale College\, 1500 North Verdugo Road\, Glendale\, CA\, 91208\, United States
END:VEVENT
BEGIN:VEVENT
DTSTART;TZID=America/Los_Angeles:20150507T190000
DTEND;TZID=America/Los_Angeles:20150507T210000
DTSTAMP:20260421T052213
CREATED:20150411T002804Z
LAST-MODIFIED:20150502T005918Z
UID:1258-1431025200-1431032400@phi.history.ucla.edu
SUMMARY:Sorry to say we had to cancel this event: Why History Matters: A Conversation with Rev. James Lawson
DESCRIPTION:Thursday\, May 7\, 2015 \n7:00 PM to 9:00 PM \nFowler Museum at UCLA \nAlthough California is one of the bright spots on the post-recession landscape\, a recent study described Los Angeles one of the most unequal cities in the United States. What can we learn from social movements of the recent past as we confront these challenges? The UCLA History Department is pleased to sponsor\, as part of its ongoing Why History Matters series\, a conversation between activists and historians about inequality\, nonviolence\, and the dream of a democratic society. \nPanelists \nReverend James Lawson\, Jr. has been a leading theorist and practitioner of nonviolent social action since the 1960s when he lead campaigns in Nashville and Memphis. For several years he has taught a course at UCLA on Labor and Nonviolence. \nVinay Lal\, Professor of History at UCLA\, has written widely about the political and cultural history of India\, contemporary American politics\, and Gandhian Non-Violence. \nModerator \nToby Higbie\, Associate Professor at UCLA\, Director of the Public History Initiative and chair of the Labor & Workplace Studies program\, teaches and writes about 20th century U.S. social and cultural history.
URL:https://phi.history.ucla.edu/event/why-history-matters-confronting-inequality-with-love-and-solidarity-a-conversation-about-labor-nonviolence-social-justice/
LOCATION:Fowler Museum at UCLA
END:VEVENT
BEGIN:VEVENT
DTSTART;TZID=America/Los_Angeles:20150501T080000
DTEND;TZID=America/Los_Angeles:20150731T170000
DTSTAMP:20260421T052213
CREATED:20150502T005741Z
LAST-MODIFIED:20150502T005741Z
UID:1374-1430467200-1438362000@phi.history.ucla.edu
SUMMARY:Teacher Institutes with the UCBHSSP Summer 2015
DESCRIPTION:Early bird registration rates end May 1. Register today! \nReading & Writing in History: Developing Common Core Aligned Lessons\nJune 22-26\n$500 early bird registration fee (until May 1) \nCalifornia and the Nation\nJune 30\, 2015\n$75 registration fee \nPlanning for History Research Projects in a Digital World\nJuly 27-31\, 2015\n$500 early bird registration fee (until May 1) \nTo find out more\, go to UCBHSSP’s website
URL:https://phi.history.ucla.edu/event/teacher-institutes-with-the-ucbhssp-summer-2015/
END:VEVENT
BEGIN:VEVENT
DTSTART;TZID=America/Los_Angeles:20150410T080000
DTEND;TZID=America/Los_Angeles:20150410T170000
DTSTAMP:20260421T052213
CREATED:20150325T010749Z
LAST-MODIFIED:20150325T010749Z
UID:1058-1428652800-1428685200@phi.history.ucla.edu
SUMMARY:HistoryCorps: Enrollment Deadline for History 195CE Spring Quarter
DESCRIPTION:
URL:https://phi.history.ucla.edu/event/historycorps-enrollment-deadline-for-history-195ce-spring-quarter/
END:VEVENT
BEGIN:VEVENT
DTSTART;TZID=America/Los_Angeles:20150401T080000
DTEND;TZID=America/Los_Angeles:20150401T170000
DTSTAMP:20260421T052213
CREATED:20150325T010930Z
LAST-MODIFIED:20150325T010930Z
UID:1059-1427875200-1427907600@phi.history.ucla.edu
SUMMARY:Start of Spring Quarter 2015
DESCRIPTION:
URL:https://phi.history.ucla.edu/event/start-of-spring-quarter-2015/
END:VEVENT
BEGIN:VEVENT
DTSTART;TZID=America/Los_Angeles:20150309T100000
DTEND;TZID=America/Los_Angeles:20150313T140000
DTSTAMP:20260421T052213
CREATED:20150304T050940Z
LAST-MODIFIED:20150318T011956Z
UID:1023-1425895200-1426255200@phi.history.ucla.edu
SUMMARY:Week 10: Free Coffee & Donuts
DESCRIPTION:All Week 10 (March 9 to March 13) PHI is offering coffee and donuts to visitors who stop in. All are encouraged\, especially undergraduates considering history internships and opportunities. Fuel up for finals and have fun doing it (at no cost to guests.) \n  \nWhere: Bunche 6339\, behind the elevators \nFrom: 10 am to 2 pm \nMarch 9-13\, 2015 \n 
URL:https://phi.history.ucla.edu/event/week-10-free-coffee-donuts/
END:VEVENT
BEGIN:VEVENT
DTSTART;TZID=America/Los_Angeles:20150306T110000
DTEND;TZID=America/Los_Angeles:20150306T120000
DTSTAMP:20260421T052213
CREATED:20150304T052533Z
LAST-MODIFIED:20150304T052533Z
UID:1031-1425639600-1425643200@phi.history.ucla.edu
SUMMARY:HistoryCorps Ambassador: Brianda Felix
DESCRIPTION:Available to discuss with potential undergraduate applicants the resources and information about HistoryCorps.
URL:https://phi.history.ucla.edu/event/historycorps-ambassador-brianda-felix/
END:VEVENT
BEGIN:VEVENT
DTSTART;TZID=America/Los_Angeles:20150305T140000
DTEND;TZID=America/Los_Angeles:20150305T150000
DTSTAMP:20260421T052213
CREATED:20150304T052317Z
LAST-MODIFIED:20150304T052317Z
UID:1030-1425564000-1425567600@phi.history.ucla.edu
SUMMARY:HistoryCorps Ambassador: Macario Ricardo
DESCRIPTION:Available to discuss with potential undergraduate applicants the resources and information about HistoryCorps.
URL:https://phi.history.ucla.edu/event/historycorps-ambassador-macario-ricardo/
END:VEVENT
BEGIN:VEVENT
DTSTART;TZID=America/Los_Angeles:20150305T100000
DTEND;TZID=America/Los_Angeles:20150305T110000
DTSTAMP:20260421T052213
CREATED:20150304T052038Z
LAST-MODIFIED:20150304T052038Z
UID:1029-1425549600-1425553200@phi.history.ucla.edu
SUMMARY:HistoryCorps Ambassador: Samantha Lalison
DESCRIPTION:Available to discuss with potential undergraduate applicants the resources and information about HistoryCorps.
URL:https://phi.history.ucla.edu/event/historycorps-ambassador-samantha-lalison/
END:VEVENT
BEGIN:VEVENT
DTSTART;TZID=America/Los_Angeles:20150304T140000
DTEND;TZID=America/Los_Angeles:20150304T150000
DTSTAMP:20260421T052213
CREATED:20150304T051840Z
LAST-MODIFIED:20150304T051840Z
UID:1028-1425477600-1425481200@phi.history.ucla.edu
SUMMARY:HistoryCorps Ambassador: Jeffrey Dohoda
DESCRIPTION:Available to discuss with potential undergraduate applicants the resources and information about HistoryCorps.
URL:https://phi.history.ucla.edu/event/historycorps-ambassador-jeffrey-dohoda/
END:VEVENT
BEGIN:VEVENT
DTSTART;TZID=America/Los_Angeles:20150304T121000
DTEND;TZID=America/Los_Angeles:20150304T131000
DTSTAMP:20260421T052213
CREATED:20150304T051651Z
LAST-MODIFIED:20150304T051651Z
UID:1027-1425471000-1425474600@phi.history.ucla.edu
SUMMARY:HistoryCorps Ambassador: Deepeaka Dhaliwal
DESCRIPTION:Available to discuss with potential undergraduate applicants the resources and information about HistoryCorps.
URL:https://phi.history.ucla.edu/event/historycorps-ambassador-deepeaka-dhaliwal/
END:VEVENT
BEGIN:VEVENT
DTSTART;TZID=America/Los_Angeles:20150303T140000
DTEND;TZID=America/Los_Angeles:20150303T150000
DTSTAMP:20260421T052213
CREATED:20150304T051359Z
LAST-MODIFIED:20150304T051359Z
UID:1026-1425391200-1425394800@phi.history.ucla.edu
SUMMARY:HistoryCorps Ambassador: Marilyn Estrada
DESCRIPTION:Available to discuss with potential undergraduate applicants the resources and information about HistoryCorps.
URL:https://phi.history.ucla.edu/event/historycorps-ambassador-marilyn-estrada/
END:VEVENT
BEGIN:VEVENT
DTSTART;TZID=America/Los_Angeles:20150303T120000
DTEND;TZID=America/Los_Angeles:20150303T130000
DTSTAMP:20260421T052213
CREATED:20150304T033534Z
LAST-MODIFIED:20150304T033534Z
UID:1016-1425384000-1425387600@phi.history.ucla.edu
SUMMARY:HistoryCorps Ambassador: Karen Sun
DESCRIPTION:Available to discuss with potential undergraduate applicants the resources and information about HistoryCorps.
URL:https://phi.history.ucla.edu/event/historycorps-ambassador-karen-sun/
LOCATION:Bunche Hall\, 6339
END:VEVENT
BEGIN:VEVENT
DTSTART;TZID=America/Los_Angeles:20150215T160000
DTEND;TZID=America/Los_Angeles:20150215T180000
DTSTAMP:20260421T052213
CREATED:20150204T041730Z
LAST-MODIFIED:20150204T041730Z
UID:731-1424016000-1424023200@phi.history.ucla.edu
SUMMARY:Why History Matters
DESCRIPTION:A panel discussion featuring: \nPeter Baldwin\, UCLA Department of History \nIvan Berend\, UCLA Department of History \nHonorable Wolfgang Drautz\, Consul General\, Federal Republic of Germany \nHonorable Elisabeth Fotiadou\, Consul General of Greece \nHonorable David Martinon\, Consul General of France \nModerated by: \nLynn Hunt\, UCLA Department of History
URL:https://phi.history.ucla.edu/event/why-history-matters/
LOCATION:Covel Grand Horizons Room\, CA\, United States
END:VEVENT
END:VCALENDAR