BEGIN:VCALENDAR
VERSION:2.0
PRODID:-//Public History Initiative - ECPv6.15.20//NONSGML v1.0//EN
CALSCALE:GREGORIAN
METHOD:PUBLISH
X-ORIGINAL-URL:https://phi.history.ucla.edu
X-WR-CALDESC:Events for Public History Initiative
REFRESH-INTERVAL;VALUE=DURATION:PT1H
X-Robots-Tag:noindex
X-PUBLISHED-TTL:PT1H
BEGIN:VTIMEZONE
TZID:America/Los_Angeles
BEGIN:DAYLIGHT
TZOFFSETFROM:-0800
TZOFFSETTO:-0700
TZNAME:PDT
DTSTART:20170312T100000
END:DAYLIGHT
BEGIN:STANDARD
TZOFFSETFROM:-0700
TZOFFSETTO:-0800
TZNAME:PST
DTSTART:20171105T090000
END:STANDARD
BEGIN:DAYLIGHT
TZOFFSETFROM:-0800
TZOFFSETTO:-0700
TZNAME:PDT
DTSTART:20180311T100000
END:DAYLIGHT
BEGIN:STANDARD
TZOFFSETFROM:-0700
TZOFFSETTO:-0800
TZNAME:PST
DTSTART:20181104T090000
END:STANDARD
BEGIN:DAYLIGHT
TZOFFSETFROM:-0800
TZOFFSETTO:-0700
TZNAME:PDT
DTSTART:20190310T100000
END:DAYLIGHT
BEGIN:STANDARD
TZOFFSETFROM:-0700
TZOFFSETTO:-0800
TZNAME:PST
DTSTART:20191103T090000
END:STANDARD
END:VTIMEZONE
BEGIN:VTIMEZONE
TZID:UTC
BEGIN:STANDARD
TZOFFSETFROM:+0000
TZOFFSETTO:+0000
TZNAME:UTC
DTSTART:20150101T000000
END:STANDARD
END:VTIMEZONE
BEGIN:VEVENT
DTSTART;TZID=America/Los_Angeles:20180522T140000
DTEND;TZID=America/Los_Angeles:20180522T150000
DTSTAMP:20260420T113646
CREATED:20180321T042523Z
LAST-MODIFIED:20180404T224516Z
UID:3752-1526997600-1527001200@phi.history.ucla.edu
SUMMARY:HistoryCorps Info Session
DESCRIPTION:
URL:https://phi.history.ucla.edu/event/historycorps-info-session-2/
LOCATION:Bunche 6275
END:VEVENT
BEGIN:VEVENT
DTSTART;TZID=America/Los_Angeles:20180507T183000
DTEND;TZID=America/Los_Angeles:20180507T200000
DTSTAMP:20260420T113646
CREATED:20180321T043213Z
LAST-MODIFIED:20180321T043321Z
UID:3759-1525717800-1525723200@phi.history.ucla.edu
SUMMARY:Past to Page: A Panel Discussion with Comic Book Artists & Creators
DESCRIPTION:Medieval and Renaissance themes continue to have a profound influence on contemporary comic books and graphic novels. Join Dr. Kristina Markman (History\, UCLA) for a panel discussion featuring comic creators Conor McCreery (Kill Shakespeare\, IDW Publishers)\, GMB Chomichuk (Midnight City\, Infinitum\, Rust and Water\, Raygun Gothic) and industry veteran Howard Chaykin (The Divided States of Hysteria\, Image\, Marvel\, and DC Comics). Hosted by the Center for Medieval and Renaissance Studies. Please RSVP  
URL:https://phi.history.ucla.edu/event/past-to-page-a-panel-discussion-with-comic-book-artists-creators/
LOCATION:Royce Hall 314
END:VEVENT
BEGIN:VEVENT
DTSTART;TZID=America/Los_Angeles:20180502T150000
DTEND;TZID=America/Los_Angeles:20180502T160000
DTSTAMP:20260420T113646
CREATED:20180321T042452Z
LAST-MODIFIED:20180404T224721Z
UID:3749-1525273200-1525276800@phi.history.ucla.edu
SUMMARY:HistoryCorps Info Session
DESCRIPTION:
URL:https://phi.history.ucla.edu/event/historycorps-info-session/
LOCATION:Bunche 6275
END:VEVENT
BEGIN:VEVENT
DTSTART;TZID=America/Los_Angeles:20180501T120000
DTEND;TZID=America/Los_Angeles:20180501T140000
DTSTAMP:20260420T113646
CREATED:20180321T042745Z
LAST-MODIFIED:20180404T225134Z
UID:3755-1525176000-1525183200@phi.history.ucla.edu
SUMMARY:Historians@Work: Career Workshop
DESCRIPTION:Please join us on Tuesday\, May 1 @ noon to learn about what you can do with a History major.
URL:https://phi.history.ucla.edu/event/historianswork-career-workshop-2/
LOCATION:Bunche 6275
END:VEVENT
BEGIN:VEVENT
DTSTART;TZID=America/Los_Angeles:20180405T163000
DTEND;TZID=America/Los_Angeles:20180405T183000
DTSTAMP:20260420T113646
CREATED:20180321T041054Z
LAST-MODIFIED:20180321T041121Z
UID:3734-1522945800-1522953000@phi.history.ucla.edu
SUMMARY:Humanities Now: Transformative Teaching (EPIC Conference)
DESCRIPTION:Excellence in Pedagogy and Innovative Classrooms (EPIC) Program will be hosting an inaugural conference titled Humanities Now: Transformative Teaching in Royce Hall April 5-6\, 2018. We invite you to join us and continue the conversation on humanities pedagogy. RSVP and more information can be found here: epic.ucla.edu/conference
URL:https://phi.history.ucla.edu/event/3734/
LOCATION:Royce Hall 314
END:VEVENT
BEGIN:VEVENT
DTSTART;TZID=UTC:20180405T150000
DTEND;TZID=UTC:20180405T170000
DTSTAMP:20260420T113646
CREATED:20180119T074939Z
LAST-MODIFIED:20180119T074939Z
UID:3671-1522940400-1522947600@phi.history.ucla.edu
SUMMARY:OPENING RECEPTION: Inspirational Illuminations
DESCRIPTION:The students of HIST 119D: “Sex in the Middle Ages” and Dr. Kristina Markman cordially invite you to the opening reception of “Inspirational Illuminations: Reacting to Medieval Manuscripts” \nRSVP \nRefreshments will be served.
URL:https://phi.history.ucla.edu/event/opening-reception-inspirational-illuminations/
LOCATION:Powell Library Rotunda
END:VEVENT
BEGIN:VEVENT
DTSTART;TZID=America/Los_Angeles:20180308T193000
DTEND;TZID=America/Los_Angeles:20180308T230000
DTSTAMP:20260420T113646
CREATED:20180220T220745Z
LAST-MODIFIED:20180220T222606Z
UID:3716-1520537400-1520550000@phi.history.ucla.edu
SUMMARY:Lecture by PHI Program Coordinator Dr. Kristina Markman
DESCRIPTION:A public lecture by PHI Program Coordinator Dr. Kristina Markman\nJoin Kristina on March 8 @ 7:30pm at Busby’s East for Nerd Nite (must be 21 or\nolder) where Kristina will be giving a lecture on medieval drinking culture. \n \n“Boozing in the Middle Ages”: Drinking is both a physical and cultural act. The act of drinking as well as attitudes toward drinking have the power to reinforce community standards\, establish socio-economic boundaries\, and reaffirm gender categories. American beliefs toward alcohol are paradoxical: we grant it heroic status and often drink to excess\, yet restrict its use and blame it for our misconduct. Was this always the case? How did people in the so-called “Dark Ages” feel about alcohol? \nNerd Nite is a monthly event held in more than 100 cities across the globe during which several folks give 20-minute fun-yet-informative presentations across all disciplines. Get tickets HERE.
URL:https://phi.history.ucla.edu/event/3716/
LOCATION:Busby’s East\, 5364 Wilshire Blvd\, Los Angeles\, CA\, 90036
END:VEVENT
BEGIN:VEVENT
DTSTART;TZID=UTC:20180226T130000
DTEND;TZID=UTC:20180226T140000
DTSTAMP:20260420T113646
CREATED:20171101T042653Z
LAST-MODIFIED:20171128T032200Z
UID:3591-1519650000-1519653600@phi.history.ucla.edu
SUMMARY:HistoryCorps Info Session
DESCRIPTION:
URL:https://phi.history.ucla.edu/event/historycorps-info-session-5/
LOCATION:Bunche 6275
END:VEVENT
BEGIN:VEVENT
DTSTART;TZID=UTC:20180222T120000
DTEND;TZID=UTC:20180222T140000
DTSTAMP:20260420T113646
CREATED:20171031T050159Z
LAST-MODIFIED:20171031T050159Z
UID:3577-1519300800-1519308000@phi.history.ucla.edu
SUMMARY:Historians@Work: Career Workshop
DESCRIPTION:Please join us on Thursday\, February 22 @ noon to learn about history outside the academy.
URL:https://phi.history.ucla.edu/event/historianswork-career-workshop/
LOCATION:Bunche 6275
END:VEVENT
BEGIN:VEVENT
DTSTART;TZID=UTC:20180208T190000
DTEND;TZID=UTC:20180208T210000
DTSTAMP:20260420T113646
CREATED:20180124T083212Z
LAST-MODIFIED:20180124T083212Z
UID:3695-1518116400-1518123600@phi.history.ucla.edu
SUMMARY:Why History Matters: “Why Black Women’s Lives Matter”
DESCRIPTION:
URL:https://phi.history.ucla.edu/event/history-matters-black-womens-lives-matter/
LOCATION:Fowler Museum at UCLA
END:VEVENT
BEGIN:VEVENT
DTSTART;TZID=UTC:20180208T150000
DTEND;TZID=UTC:20180208T160000
DTSTAMP:20260420T113646
CREATED:20171101T042611Z
LAST-MODIFIED:20171128T032235Z
UID:3588-1518102000-1518105600@phi.history.ucla.edu
SUMMARY:HistoryCorps Info Session
DESCRIPTION:
URL:https://phi.history.ucla.edu/event/historycorps-info-session-4/
LOCATION:Bunche 6275
END:VEVENT
BEGIN:VEVENT
DTSTART;TZID=UTC:20180125T103000
DTEND;TZID=UTC:20180125T120000
DTSTAMP:20260420T113646
CREATED:20180124T082530Z
LAST-MODIFIED:20180124T083006Z
UID:3690-1516876200-1516881600@phi.history.ucla.edu
SUMMARY:Non-Traditional Jobs for History Majors Workshop: Digital Media & Technology
DESCRIPTION:Come learn about career opportunities and what it takes to succeed in Silicon Valley with \nJohn Rethans (UCLA\, BA\, 1999\, History and European Studies)\, Head of Digital Transformation Strategy at Google \nDormain Drewitz (BA\, 2004\, History)\, Director of Product Marketing at Pivotal Software \nRSVP
URL:https://phi.history.ucla.edu/event/non-traditional-jobs-history-majors-workshop-digital-media-technology/
LOCATION:Bunche 6275
END:VEVENT
BEGIN:VEVENT
DTSTART;VALUE=DATE:20171126
DTEND;VALUE=DATE:20171127
DTSTAMP:20260420T113646
CREATED:20170906T055908Z
LAST-MODIFIED:20170906T060820Z
UID:3025-1511654400-1511740799@phi.history.ucla.edu
SUMMARY:Winter HistoryCorps application closes
DESCRIPTION:
URL:https://phi.history.ucla.edu/event/historycoprs-winter-application-closes/
END:VEVENT
BEGIN:VEVENT
DTSTART;TZID=UTC:20171120T140000
DTEND;TZID=UTC:20171120T150000
DTSTAMP:20260420T113646
CREATED:20170919T055712Z
LAST-MODIFIED:20170919T055712Z
UID:3023-1511186400-1511190000@phi.history.ucla.edu
SUMMARY:HistoryCorps Info Session and Resume Workshop
DESCRIPTION:
URL:https://phi.history.ucla.edu/event/historycorps-info-session-resume-workshop-3/
LOCATION:Bunche 6275
END:VEVENT
BEGIN:VEVENT
DTSTART;TZID=UTC:20171114T120000
DTEND;TZID=UTC:20171114T130000
DTSTAMP:20260420T113646
CREATED:20170906T055522Z
LAST-MODIFIED:20170919T055556Z
UID:3019-1510660800-1510664400@phi.history.ucla.edu
SUMMARY:HistoryCorps Info Session and Resume Workshop
DESCRIPTION:
URL:https://phi.history.ucla.edu/event/historycorps-info-session-resume-workshop-2/
LOCATION:Bunche 6275
END:VEVENT
BEGIN:VEVENT
DTSTART;TZID=UTC:20171109T120000
DTEND;TZID=UTC:20171109T140000
DTSTAMP:20260420T113646
CREATED:20171031T050029Z
LAST-MODIFIED:20171031T050029Z
UID:3569-1510228800-1510236000@phi.history.ucla.edu
SUMMARY:Historian@Work: Career Workshop
DESCRIPTION:Please join us on Thursday\, November 9 @ noon to learn about history outside the academy.
URL:https://phi.history.ucla.edu/event/historianwork-career-workshop/
LOCATION:Bunche 6275
END:VEVENT
BEGIN:VEVENT
DTSTART;TZID=UTC:20171102T150000
DTEND;TZID=UTC:20171102T160000
DTSTAMP:20260420T113646
CREATED:20170825T040317Z
LAST-MODIFIED:20170919T055645Z
UID:2926-1509634800-1509638400@phi.history.ucla.edu
SUMMARY:HistoryCorps Info Session and Resume Workshop
DESCRIPTION:
URL:https://phi.history.ucla.edu/event/historycorps-info-session-resume-workshop/
LOCATION:Bunche 6275
END:VEVENT
BEGIN:VEVENT
DTSTART;VALUE=DATE:20171023
DTEND;VALUE=DATE:20171024
DTSTAMP:20260420T113646
CREATED:20170825T040133Z
LAST-MODIFIED:20171027T053646Z
UID:2923-1508716800-1508803199@phi.history.ucla.edu
SUMMARY:Winter HistoryCorps application  opens
DESCRIPTION:
URL:https://phi.history.ucla.edu/event/winter-historycorps-priority-application-major-opens/
END:VEVENT
BEGIN:VEVENT
DTSTART;VALUE=DATE:20171013
DTEND;VALUE=DATE:20171014
DTSTAMP:20260420T113646
CREATED:20170906T060130Z
LAST-MODIFIED:20170929T021812Z
UID:3029-1507852800-1507939199@phi.history.ucla.edu
SUMMARY:Deadline for H-195CE contract
DESCRIPTION:Congratulations to all of our Fall 2017 interns! \nIf you would like to receive course credit towards the History major for your internship\, please make sure to complete your course contract for H-195CE with the Center for Community Learning by Friday\, Week 2.
URL:https://phi.history.ucla.edu/event/intern-boarding-deadline-h-195ce/
END:VEVENT
BEGIN:VEVENT
DTSTART;TZID=UTC:20171011T190000
DTEND;TZID=UTC:20171011T203000
DTSTAMP:20260420T113646
CREATED:20170909T043143Z
LAST-MODIFIED:20170909T043239Z
UID:3045-1507748400-1507753800@phi.history.ucla.edu
SUMMARY:Why History Matters: Do Statues Matter?
DESCRIPTION:Please RSVP
URL:https://phi.history.ucla.edu/event/history-matters-statues-matter/
LOCATION:Faculty Center\, 480 Charles E Young Dr E\, Los Angeles\, CA\, 90095
END:VEVENT
BEGIN:VEVENT
DTSTART;TZID=UTC:20171011T160000
DTEND;TZID=UTC:20171011T173000
DTSTAMP:20260420T113646
CREATED:20170919T060020Z
LAST-MODIFIED:20170919T060020Z
UID:3095-1507737600-1507743000@phi.history.ucla.edu
SUMMARY:Opening Reception for Luskin Center for History and Policy
DESCRIPTION:
URL:https://phi.history.ucla.edu/event/opening-reception-luskin-center-history-policy/
LOCATION:Bunche Hall\, 6339
END:VEVENT
BEGIN:VEVENT
DTSTART;TZID=UTC:20171004T143000
DTEND;TZID=UTC:20171004T163000
DTSTAMP:20260420T113646
CREATED:20170825T035722Z
LAST-MODIFIED:20170901T151254Z
UID:2913-1507127400-1507134600@phi.history.ucla.edu
SUMMARY:History Department Open House
DESCRIPTION:
URL:https://phi.history.ucla.edu/event/history-department-open-house/
LOCATION:Bunche 6275
END:VEVENT
BEGIN:VEVENT
DTSTART;VALUE=DATE:20170930
DTEND;VALUE=DATE:20171001
DTSTAMP:20260420T113646
CREATED:20170825T035932Z
LAST-MODIFIED:20170906T051401Z
UID:2920-1506729600-1506815999@phi.history.ucla.edu
SUMMARY:Fall HistoryCorps application closes
DESCRIPTION:
URL:https://phi.history.ucla.edu/event/fall-historycorps-application-closes/
END:VEVENT
BEGIN:VEVENT
DTSTART;VALUE=DATE:20170928
DTEND;VALUE=DATE:20170929
DTSTAMP:20260420T113646
CREATED:20170825T034930Z
LAST-MODIFIED:20170906T051828Z
UID:2910-1506556800-1506643199@phi.history.ucla.edu
SUMMARY:First Day of Classes!
DESCRIPTION:
URL:https://phi.history.ucla.edu/event/first-day-classes-welcome-back/
END:VEVENT
BEGIN:VEVENT
DTSTART;VALUE=DATE:20170901
DTEND;VALUE=DATE:20170902
DTSTAMP:20260420T113646
CREATED:20170825T035907Z
LAST-MODIFIED:20170906T051323Z
UID:2917-1504224000-1504310399@phi.history.ucla.edu
SUMMARY:Fall HistoryCorps application opens
DESCRIPTION:FALL APPLICATION \nPlease note\, Fall quarter applications and referrals are done on a first come\, first serve basis. The earlier you submit your application\, the earlier you will be interviewed and can begin your internship and H-195CE onboarding. If you wait until September 30 to submit your application\, all internships may already be filled.
URL:https://phi.history.ucla.edu/event/fall-historycorps-application-opens/
END:VEVENT
BEGIN:VEVENT
DTSTART;TZID=UTC:20170515T080000
DTEND;TZID=UTC:20170617T170000
DTSTAMP:20260420T113646
CREATED:20170502T055504Z
LAST-MODIFIED:20170502T055605Z
UID:1897-1494835200-1497718800@phi.history.ucla.edu
SUMMARY:HistoryCorps Opens to History Minors
DESCRIPTION:HistoryCorps welcomes applications from upper division History minors who meet H-195CE course criteria and have completed at least two upper division History classes.  Applications available online or in Bunche 6339. \n\nThe Center for Community Learning has summer intake appointments available May 22-June 9 and June 26-July 7—or until the course fills. Note:  The Center offers H-195CE ONLY during the 10-week Summer Session A.
URL:https://phi.history.ucla.edu/event/historycorps-opens-history-minors/
END:VEVENT
BEGIN:VEVENT
DTSTART;TZID=UTC:20170501T080000
DTEND;TZID=UTC:20170515T170000
DTSTAMP:20260420T113646
CREATED:20170502T054112Z
LAST-MODIFIED:20170502T054112Z
UID:1894-1493625600-1494867600@phi.history.ucla.edu
SUMMARY:HistoryCorps Summer Internships
DESCRIPTION:HistoryCorps Summer School Application Period Opens Today\, May 1.  You already know that space in HistoryCorps is limited. However\, during the summer several of our partner sites are unable to accept interns.  What does that mean?  Less partner sites equals less internship slots for summer.  Get your application in early. Applications available online at:  https://phi.history.ucla.edu/whatwedo/historycorps/ or in Bunche 6339.  Questions?  Email:  cheryl@history.ucla.edu. \n\nApplications available online at:  https://phi.history.ucla.edu/whatwedo/historycorps/ or in Bunche 6339.  Questions?  Email:  cheryl@history.ucla.edu.\nPriority consideration for History majors until May 15\nThe Center for Community Learning has summer intake appointments available May 22-June 9 and June 26-July 7—or until the course fills. Note:  The Center offers H-195CE ONLY during the 10-week Summer Session A.\n\n  \n 
URL:https://phi.history.ucla.edu/event/historycorps-summer-internships/
END:VEVENT
BEGIN:VEVENT
DTSTART;TZID=UTC:20161128T100000
DTEND;TZID=UTC:20161201T140000
DTSTAMP:20260420T113646
CREATED:20160816T055510Z
LAST-MODIFIED:20161109T054718Z
UID:1702-1480327200-1480600800@phi.history.ucla.edu
SUMMARY:Week 10:  Free Coffee & Donuts
DESCRIPTION:UCLA History Undergrads:  Take a break from studying for finals or writing that paper you meant to start work on weeks ago.  Drop by PHI’s famous Week 10 FREE Donuts and Coffee. \nYou can grab and go OR stay for a while.  Decompress. Meet other history undergrads. Enjoy the quiet.  Start a discussion about your favorite area of history.  Talk to a grad student about what that’s like.  Find out more about our HistoryCorps internships. Talk to a cool prof about something besides classwork.  You never know what you will find at PHI during Week 10. \nBunche  6339\, behind the elevators. From 10 am to 2pm.  Monday through Thursday of Week 10.
URL:https://phi.history.ucla.edu/event/free-coffee-donuts-week/
END:VEVENT
BEGIN:VEVENT
DTSTART;TZID=UTC:20161118T080000
DTEND;TZID=UTC:20161118T170000
DTSTAMP:20260420T113646
CREATED:20160816T060718Z
LAST-MODIFIED:20161105T045549Z
UID:1703-1479456000-1479488400@phi.history.ucla.edu
SUMMARY:HistoryCorps Winter Quarter Application Priority Deadline
DESCRIPTION:HistoryCorps applications received after November 18 will be referred ONLY as space is available.
URL:https://phi.history.ucla.edu/event/historycorps-winter-quarter-priority-deadline-ends/
END:VEVENT
BEGIN:VEVENT
DTSTART;TZID=UTC:20161117T130000
DTEND;TZID=UTC:20161117T143000
DTSTAMP:20260420T113646
CREATED:20160816T055254Z
LAST-MODIFIED:20161109T051018Z
UID:1701-1479387600-1479393000@phi.history.ucla.edu
SUMMARY:HistoryCorps Information Session
DESCRIPTION:At 1:00 pm\, join us for an information session on the HistoryCorps internship program\, get more details on the various site locations\, pick up a copy of the application\, course syllabus and transportation information.  In addition we will have cookies and coffee! \nBunche Hall\, Room 6339\, 6th floor (behind the elevators). \n 
URL:https://phi.history.ucla.edu/event/historycorps-information-session-4/
END:VEVENT
END:VCALENDAR